BEGIN:VCALENDAR
VERSION:2.0
PRODID:-//Puppyoga Switzerland - ECPv6.3.5//NONSGML v1.0//EN
CALSCALE:GREGORIAN
METHOD:PUBLISH
X-WR-CALNAME:Puppyoga Switzerland
X-ORIGINAL-URL:https://puppyogaswitzerland.ch
X-WR-CALDESC:évènements pour Puppyoga Switzerland
REFRESH-INTERVAL;VALUE=DURATION:PT1H
X-Robots-Tag:noindex
X-PUBLISHED-TTL:PT1H
BEGIN:VTIMEZONE
TZID:Europe/Paris
BEGIN:DAYLIGHT
TZOFFSETFROM:+0100
TZOFFSETTO:+0200
TZNAME:CEST
DTSTART:20240331T010000
END:DAYLIGHT
BEGIN:STANDARD
TZOFFSETFROM:+0200
TZOFFSETTO:+0100
TZNAME:CET
DTSTART:20241027T010000
END:STANDARD
END:VTIMEZONE
BEGIN:VEVENT
DTSTART;TZID=Europe/Paris:20240608T155000
DTEND;TZID=Europe/Paris:20240608T165000
DTSTAMP:20260421T074716
CREATED:20240525T172048Z
LAST-MODIFIED:20240605T125530Z
UID:10000040-1717861800-1717865400@puppyogaswitzerland.ch
SUMMARY:Ferney-Voltaire - 8 juin 15h50
DESCRIPTION:Découvrez l’expérience exceptionnelle du Puppy Yoga ! \nImmergez-vous dans une séance de yoga entourée de chiots adorables. Nos cours de yoga\, à la fois ludiques et apaisants\, vous proposent une expérience extraordinaire. Le programme est  le suivant : 20 minutes de yoga\, 10 minutes de méditation et 30 minutes de moments jeux et câlins avec nos chiots ! \nRéservez dès maintenant pour vivre cette expérience unique ! Try now the first paw-sitive experience. \nLieu : Ferney-Voltaire (Nous sommes dans l’attente d’une autorisation complémentaire pour la Ville de Genève) \nStudio de yoga très bien desservie avec places de parking gratuites à proximité. \nLe bus 60 vous amènera depuis la Gare Cornavin jusqu’à notre studio de yoga en une vingtaine de minute. (arrêt : Ferney-Centre) \nDès que tu as réservé ta place\, tu recevras une confirmation de réservation avec l’adresse de la salle. \nL’âge minimum pour les enfants est de 7 ans. \nLes enfants de moins de 15 ans doivent être accompagnés d’un adulte muni d’un ticket. \n*L’image ne correspond pas forcément à la race de chiot de la séance. C’est une surprise\, nous ne souhaitons pas révéler les races de chien à l’avance afin de ne pas discriminer certaines races.
URL:https://puppyogaswitzerland.ch/event/ferney-voltaire-8-juin-15h50/
LOCATION:Ferney-Voltaire\, Centre d'Aumard\, 55 Av. Voltaire\, Ferney-Voltaire\, 01210\, France
CATEGORIES:Ferney Voltaire - Genève
ATTACH;FMTTYPE=image/jpeg:https://puppyogaswitzerland.ch/wp-content/uploads/2024/04/IMG_2278-1-scaled.jpeg
END:VEVENT
END:VCALENDAR