BEGIN:VCALENDAR
VERSION:2.0
PRODID:-//Puppyoga Switzerland - ECPv6.3.5//NONSGML v1.0//EN
CALSCALE:GREGORIAN
METHOD:PUBLISH
X-ORIGINAL-URL:https://puppyogaswitzerland.ch
X-WR-CALDESC:évènements pour Puppyoga Switzerland
REFRESH-INTERVAL;VALUE=DURATION:PT1H
X-Robots-Tag:noindex
X-PUBLISHED-TTL:PT1H
BEGIN:VTIMEZONE
TZID:Europe/Paris
BEGIN:DAYLIGHT
TZOFFSETFROM:+0100
TZOFFSETTO:+0200
TZNAME:CEST
DTSTART:20240331T010000
END:DAYLIGHT
BEGIN:STANDARD
TZOFFSETFROM:+0200
TZOFFSETTO:+0100
TZNAME:CET
DTSTART:20241027T010000
END:STANDARD
END:VTIMEZONE
BEGIN:VEVENT
DTSTART;TZID=Europe/Paris:20240811T133000
DTEND;TZID=Europe/Paris:20240811T143000
DTSTAMP:20260421T125621
CREATED:20240717T115213Z
LAST-MODIFIED:20240725T115824Z
UID:10000053-1723383000-1723386600@puppyogaswitzerland.ch
SUMMARY:Puppyoga Garden - Ferney-Voltaire - 11 août 13h30
DESCRIPTION:🐶🌿🌻 PUPPYOGA GARDEN 🌻🌿🐶 \nPour célébrer les beaux jours\, retrouves Puppyoga en plein air dans un jardin ombragé d’un hôtel 4*! Immergez-vous dans une séance de yoga entourée de chiots adorables. \nNos cours de yoga\, à la fois ludiques et apaisants\, vous proposent une expérience extraordinaire. \nLe programme est le suivant : 20 minutes de yoga\, 10 minutes de méditation et 30 minutes de moments jeux et câlins avec nos chiots ! Réservez dès maintenant pour vivre cette expérience unique ! Try now the first paw-sitive experience. \n📍Lieu : Hôtel 4* à Ferney-Voltaire (Nous sommes dans l’attente d’une autorisation complémentaire pour la Ville de Genève) \nStudio de yoga très bien desservie avec places de parking gratuites à proximité. \n🚌 Le bus 60 vous amènera depuis la Gare Cornavin jusqu’à notre studio de yoga en une vingtaine de minute. (arrêt : Ferney-Centre) \nDès que tu as réservé ta place\, tu recevras une confirmation de réservation avec l’adresse de la salle. \n👶🏻 L’âge minimum pour les enfants est de 7 ans. \nLes enfants de moins de 15 ans doivent être accompagnés d’un adulte muni d’un ticket. \n*L’image ne correspond pas forcément à la race de chiot de la séance. C’est une surprise\, nous ne souhaitons pas révéler les races de chien à l’avance afin de ne pas discriminer certaines races. \n🌧️*Il est possible que la séance soit en déplacé ou en intérieur si le temps n’est pas adéquat.
URL:https://puppyogaswitzerland.ch/event/puppyoga-garden-ferney-voltaire-4-aout-13h30/
LOCATION:Puppyoga studio\, Appart'City Collection Genève Aéroport Ferney Voltaire\, Hôtel 4* 📍11\, Av. des Sablonnières\, Ferney Voltaire\, 01210\, France
CATEGORIES:Ferney Voltaire - Genève
ATTACH;FMTTYPE=image/png:https://puppyogaswitzerland.ch/wp-content/uploads/2024/07/Affiche-launching-3.png
END:VEVENT
BEGIN:VEVENT
DTSTART;TZID=Europe/Paris:20240811T144000
DTEND;TZID=Europe/Paris:20240811T154000
DTSTAMP:20260421T125621
CREATED:20240717T115326Z
LAST-MODIFIED:20240725T115348Z
UID:10000054-1723387200-1723390800@puppyogaswitzerland.ch
SUMMARY:Puppyoga Garden - Ferney-Voltaire - 11 août 14h40
DESCRIPTION:🐶🌿🌻 PUPPYOGA GARDEN 🌻🌿🐶 \nPour célébrer les beaux jours\, retrouves Puppyoga en plein air dans un jardin ombragé d’un hôtel 4*! Immergez-vous dans une séance de yoga entourée de chiots adorables. \nNos cours de yoga\, à la fois ludiques et apaisants\, vous proposent une expérience extraordinaire. \nLe programme est le suivant : 20 minutes de yoga\, 10 minutes de méditation et 30 minutes de moments jeux et câlins avec nos chiots ! Réservez dès maintenant pour vivre cette expérience unique ! Try now the first paw-sitive experience. \n📍Lieu : Hôtel 4* à Ferney-Voltaire (Nous sommes dans l’attente d’une autorisation complémentaire pour la Ville de Genève) \nStudio de yoga très bien desservie avec places de parking gratuites à proximité. \n🚌 Le bus 60 vous amènera depuis la Gare Cornavin jusqu’à notre studio de yoga en une vingtaine de minute. (arrêt : Ferney-Centre) \nDès que tu as réservé ta place\, tu recevras une confirmation de réservation avec l’adresse de la salle. \n👶🏻 L’âge minimum pour les enfants est de 7 ans. \nLes enfants de moins de 15 ans doivent être accompagnés d’un adulte muni d’un ticket. \n*L’image ne correspond pas forcément à la race de chiot de la séance. C’est une surprise\, nous ne souhaitons pas révéler les races de chien à l’avance afin de ne pas discriminer certaines races. \n🌧️*Il est possible que la séance soit en déplacé ou en intérieur si le temps n’est pas adéquat.
URL:https://puppyogaswitzerland.ch/event/puppyoga-garden-ferney-voltaire-4-aout-14h40/
LOCATION:Puppyoga studio\, Appart'City Collection Genève Aéroport Ferney Voltaire\, Hôtel 4* 📍11\, Av. des Sablonnières\, Ferney Voltaire\, 01210\, France
CATEGORIES:Ferney Voltaire - Genève
ATTACH;FMTTYPE=image/png:https://puppyogaswitzerland.ch/wp-content/uploads/2024/07/Affiche-launching-3.png
END:VEVENT
BEGIN:VEVENT
DTSTART;TZID=Europe/Paris:20240811T155000
DTEND;TZID=Europe/Paris:20240811T165000
DTSTAMP:20260421T125621
CREATED:20240717T115337Z
LAST-MODIFIED:20240804T202848Z
UID:10000055-1723391400-1723395000@puppyogaswitzerland.ch
SUMMARY:Puppyoga Garden - Ferney-Voltaire - 11 août 15h50
DESCRIPTION:🐶🌿🌻 PUPPYOGA GARDEN 🌻🌿🐶 \nPour célébrer les beaux jours\, retrouve Puppyoga en plein air dans un jardin ombragé d’un hôtel 4*! Immergez-vous dans une séance de yoga entourée de chiots adorables. \nNos cours de yoga\, à la fois ludiques et apaisants\, vous proposent une expérience extraordinaire. \nLe programme est le suivant : 20 minutes de yoga\, 10 minutes de méditation et 30 minutes de moments jeux et câlins avec nos chiots ! Réservez dès maintenant pour vivre cette expérience unique ! Try now the first paw-sitive experience. \n📍Lieu : Hôtel 4* à Ferney-Voltaire (Nous sommes dans l’attente d’une autorisation complémentaire pour la Ville de Genève) \nStudio de yoga très bien desservie avec places de parking gratuites à proximité. \n🚌 Le bus 60 vous amènera depuis la Gare Cornavin jusqu’à notre studio de yoga en une vingtaine de minute. (arrêt : Ferney-Centre) \nDès que tu as réservé ta place\, tu recevras une confirmation de réservation avec l’adresse de la salle. \n👶🏻 L’âge minimum pour les enfants est de 7 ans. \nLes enfants de moins de 15 ans doivent être accompagnés d’un adulte muni d’un ticket. \n*L’image ne correspond pas forcément à la race de chiot de la séance. C’est une surprise\, nous ne souhaitons pas révéler les races de chien à l’avance afin de ne pas discriminer certaines races. \n🌧️*Il est possible que la séance soit en déplacé ou en intérieur si le temps n’est pas adéquat.
URL:https://puppyogaswitzerland.ch/event/puppyoga-garden-ferney-voltaire-4-aout-15h50/
LOCATION:Puppyoga studio\, Appart'City Collection Genève Aéroport Ferney Voltaire\, Hôtel 4* 📍11\, Av. des Sablonnières\, Ferney Voltaire\, 01210\, France
CATEGORIES:Ferney Voltaire - Genève
ATTACH;FMTTYPE=image/png:https://puppyogaswitzerland.ch/wp-content/uploads/2024/07/Affiche-launching-3.png
END:VEVENT
END:VCALENDAR